BEGIN:VCALENDAR
VERSION:2.0
PRODID:-//RIGHTHERE//CALENDARIZE IT V3.2//EN
BEGIN:VEVENT
UID:14598-events@mounthawthornps.wa.edu.au
DTSTART:20180521T103000Z
DTEND:20180521T133000Z
DTSTAMP:20180405T020602Z
SUMMARY:OSCA AGM
URL:https://mounthawthornps.wa.edu.au/events/osca-agm/
LOCATION:Harbeck Centre
END:VEVENT
END:VCALENDAR