BEGIN:VCALENDAR
VERSION:2.0
PRODID:-//RIGHTHERE//CALENDARIZE IT V3.2//EN
BEGIN:VEVENT
UID:13554-events@mounthawthornps.wa.edu.au
DTSTART;VALUE=DATE:20171212
DTEND;VALUE=DATE:20171212
DTSTAMP:20171120T044630Z
SUMMARY:Uniform shop closed for counter service
DESCRIPTION:Will be taking orders via email and the yellow box in the offic
 e.
URL:https://mounthawthornps.wa.edu.au/events/uniform-shop-closed-for-counte
 r-service/
LOCATION:Undercover Area
END:VEVENT
END:VCALENDAR